BEGIN:VCALENDAR
VERSION:2.0
PRODID:-//Bloom Toddler Classes St Helens
CALSCALE:GREGORIAN
METHOD:PUBLISH
X-WR-CALNAME:Bloom Toddler Classes St Helens
X-ORIGINAL-URL:https://bloomtoddlerclasses.com/st-helens/product/%f0%9f%8c%8a%e2%9b%b5%ef%b8%8f%f0%9f%90%a0-wednesday-22nd-april-under-the-sea-payg-2pm-crawford-walking-4years%f0%9f%90%a0%e2%9b%b5%ef%b8%8f%f0%9f%8c%8a/
X-WR-CALDESC:🌊⛵️🐠 Wednesday 22nd April- Under the Sea PAYG- 2pm Crawford (walking-4years)🐠⛵️🌊
BEGIN:VEVENT
DTSTART;TZID=Europe/Paris:20260422T140000
DTEND;TZID=Europe/Paris:20260422T144500
SUMMARY:🌊⛵️🐠 Wednesday 22nd April- Under the Sea PAYG- 2pm Crawford (walking-4years)🐠⛵️🌊
DESCRIPTION:
URL:https://bloomtoddlerclasses.com/st-helens/product/%f0%9f%8c%8a%e2%9b%b5%ef%b8%8f%f0%9f%90%a0-wednesday-22nd-april-under-the-sea-payg-2pm-crawford-walking-4years%f0%9f%90%a0%e2%9b%b5%ef%b8%8f%f0%9f%8c%8a/
LOCATION:Crawford Village Hut, Crawford, Skelmersdale, UK
END:VEVENT
END:VCALENDAR
