BEGIN:VCALENDAR
VERSION:2.0
PRODID:-//Bloom Toddler Classes St Helens
CALSCALE:GREGORIAN
METHOD:PUBLISH
X-WR-CALNAME:Bloom Toddler Classes St Helens
X-ORIGINAL-URL:https://bloomtoddlerclasses.com/st-helens/product/%f0%9f%a4%a0%f0%9f%90%8e-friday-24th-april-cowboy-chaos-payg-10-30am-pemberton-mixed-age-walking-4years%f0%9f%90%8e%f0%9f%a4%a0-copy/
X-WR-CALDESC:🤠🐎 Friday 24th April- Cowboy Chaos- PAYG- 10.30am Pemberton Mixed Age (walking-4years)🐎🤠
BEGIN:VEVENT
DTSTART;TZID=Europe/Paris:20260424T103000
DTEND;TZID=Europe/Paris:20260424T111500
SUMMARY:🤠🐎 Friday 24th April- Cowboy Chaos- PAYG- 10.30am Pemberton Mixed Age (walking-4years)🐎🤠
DESCRIPTION:
URL:https://bloomtoddlerclasses.com/st-helens/product/%f0%9f%a4%a0%f0%9f%90%8e-friday-24th-april-cowboy-chaos-payg-10-30am-pemberton-mixed-age-walking-4years%f0%9f%90%8e%f0%9f%a4%a0-copy/
LOCATION:Fur Clemt Cafe & Food Outlet, Montrose Avenue, Wigan, UK
END:VEVENT
END:VCALENDAR
