BEGIN:VCALENDAR
VERSION:2.0
PRODID:-//Bloom Toddler Classes St Helens
CALSCALE:GREGORIAN
METHOD:PUBLISH
X-WR-CALNAME:Bloom Toddler Classes St Helens
X-ORIGINAL-URL:https://bloomtoddlerclasses.com/st-helens/product/%f0%9f%a4%a0%f0%9f%90%8e-thursday-23rd-april-cowboy-chaos-payg-10am-pemberton-mixed-age-walking-4years%f0%9f%90%8e%f0%9f%a4%a0/
X-WR-CALDESC:🤠🐎 Thursday 23rd April- Cowboy Chaos- PAYG- 10am Pemberton Mixed Age (walking-4years)🐎🤠
BEGIN:VEVENT
DTSTART;TZID=Europe/Paris:20260423T100000
DTEND;TZID=Europe/Paris:20260423T104500
SUMMARY:🤠🐎 Thursday 23rd April- Cowboy Chaos- PAYG- 10am Pemberton Mixed Age (walking-4years)🐎🤠
DESCRIPTION:
URL:https://bloomtoddlerclasses.com/st-helens/product/%f0%9f%a4%a0%f0%9f%90%8e-thursday-23rd-april-cowboy-chaos-payg-10am-pemberton-mixed-age-walking-4years%f0%9f%90%8e%f0%9f%a4%a0/
LOCATION:Fur Clemt Cafe & Food Outlet, Montrose Avenue, Wigan, UK
END:VEVENT
END:VCALENDAR
