BEGIN:VCALENDAR
VERSION:2.0
PRODID:-//Bloom Toddler Classes St Helens
CALSCALE:GREGORIAN
METHOD:PUBLISH
X-WR-CALNAME:Bloom Toddler Classes St Helens
X-ORIGINAL-URL:https://bloomtoddlerclasses.com/st-helens/product/%f0%9f%a4%a0%f0%9f%90%8e-monday-20th-april-cowboy-chaos-payg-10am-crawford-walking-to-2%f0%9f%90%8e%f0%9f%a4%a0/
X-WR-CALDESC:🤠🐎 Monday 20th April- Cowboy Chaos- PAYG- 10am Crawford (walking to 2)🐎🤠
BEGIN:VEVENT
DTSTART;TZID=Europe/Paris:20260420T100000
DTEND;TZID=Europe/Paris:20260420T104500
SUMMARY:🤠🐎 Monday 20th April- Cowboy Chaos- PAYG- 10am Crawford (walking to 2)🐎🤠
DESCRIPTION:
URL:https://bloomtoddlerclasses.com/st-helens/product/%f0%9f%a4%a0%f0%9f%90%8e-monday-20th-april-cowboy-chaos-payg-10am-crawford-walking-to-2%f0%9f%90%8e%f0%9f%a4%a0/
LOCATION:Crawford Village Hut, Crawford, Skelmersdale, UK
END:VEVENT
END:VCALENDAR
