BEGIN:VCALENDAR
VERSION:2.0
PRODID:-//Bloom Toddler Classes St Helens
CALSCALE:GREGORIAN
METHOD:PUBLISH
X-WR-CALNAME:Bloom Toddler Classes St Helens
X-ORIGINAL-URL:https://bloomtoddlerclasses.com/st-helens/product/%f0%9f%8c%8a%e2%9b%b5%ef%b8%8f%f0%9f%90%a0-thursday-16th-april-under-the-sea-payg-10am-pemberton-walking-to-4%f0%9f%90%a0%e2%9b%b5%ef%b8%8f%f0%9f%8c%8a/
X-WR-CALDESC:🌊⛵️🐠 Friday 17th April- Under the Sea PAYG- 10.30am Pemberton (walking to 4)🐠⛵️🌊
BEGIN:VEVENT
DTSTART;TZID=Europe/Paris:20260417T103000
DTEND;TZID=Europe/Paris:20260417T111500
SUMMARY:🌊⛵️🐠 Friday 17th April- Under the Sea PAYG- 10.30am Pemberton (walking to 4)🐠⛵️🌊
DESCRIPTION:
URL:https://bloomtoddlerclasses.com/st-helens/product/%f0%9f%8c%8a%e2%9b%b5%ef%b8%8f%f0%9f%90%a0-thursday-16th-april-under-the-sea-payg-10am-pemberton-walking-to-4%f0%9f%90%a0%e2%9b%b5%ef%b8%8f%f0%9f%8c%8a/
LOCATION:Fur Clemt Cafe & Food Outlet, Montrose Avenue, Wigan, UK
END:VEVENT
END:VCALENDAR
