BEGIN:VCALENDAR
VERSION:2.0
PRODID:-//Bloom Toddler Classes St Helens
CALSCALE:GREGORIAN
METHOD:PUBLISH
X-WR-CALNAME:Bloom Toddler Classes St Helens
X-ORIGINAL-URL:https://bloomtoddlerclasses.com/st-helens/product/%f0%9f%a4%a0-wednesday-14th-april-payg-2pm-crawford-village-hut-mixed-age-%f0%9f%a4%a0/
X-WR-CALDESC:🤠 Wednesday 14th April- PAYG 2pm- Crawford Village Hut (Mixed Age) 🤠
BEGIN:VEVENT
DTSTART;TZID=Europe/Paris:20260415T140000
DTEND;TZID=Europe/Paris:20260415T144500
SUMMARY:🤠 Wednesday 14th April- PAYG 2pm- Crawford Village Hut (Mixed Age) 🤠
DESCRIPTION:
URL:https://bloomtoddlerclasses.com/st-helens/product/%f0%9f%a4%a0-wednesday-14th-april-payg-2pm-crawford-village-hut-mixed-age-%f0%9f%a4%a0/
LOCATION:Crawford Village Hut, Crawford, Skelmersdale, UK
END:VEVENT
END:VCALENDAR
