BEGIN:VCALENDAR
VERSION:2.0
PRODID:-//Bloom Toddler Classes St Helens
CALSCALE:GREGORIAN
METHOD:PUBLISH
X-WR-CALNAME:Bloom Toddler Classes St Helens
X-ORIGINAL-URL:https://bloomtoddlerclasses.com/st-helens/product/%f0%9f%8c%8a%e2%9b%b5%ef%b8%8f%f0%9f%90%a0-monday-13th-april-under-the-sea-payg-10am-crawford-walking-to-2%f0%9f%90%a0%e2%9b%b5%ef%b8%8f%f0%9f%8c%8a/
X-WR-CALDESC:🌊⛵️🐠 Monday 13th April- Under the Sea PAYG- 10am Crawford (walking to 2)🐠⛵️🌊
BEGIN:VEVENT
DTSTART;TZID=Europe/Paris:20260413T100000
DTEND;TZID=Europe/Paris:20260413T104500
SUMMARY:🌊⛵️🐠 Monday 13th April- Under the Sea PAYG- 10am Crawford (walking to 2)🐠⛵️🌊
DESCRIPTION:
URL:https://bloomtoddlerclasses.com/st-helens/product/%f0%9f%8c%8a%e2%9b%b5%ef%b8%8f%f0%9f%90%a0-monday-13th-april-under-the-sea-payg-10am-crawford-walking-to-2%f0%9f%90%a0%e2%9b%b5%ef%b8%8f%f0%9f%8c%8a/
LOCATION:Crawford Village Hut, Crawford, Skelmersdale, UK
END:VEVENT
END:VCALENDAR
