BEGIN:VCALENDAR
VERSION:2.0
PRODID:-//Bloom Toddler Classes St Helens
CALSCALE:GREGORIAN
METHOD:PUBLISH
X-WR-CALNAME:Bloom Toddler Classes St Helens
X-ORIGINAL-URL:https://bloomtoddlerclasses.com/st-helens/product/%f0%9f%8f%97%f0%9f%91%b7%e2%99%80%ef%b8%8f%f0%9f%a6%ba-wednesday-11th-feb-crawford-2pm-payg-only-session-little-builders-%f0%9f%93%8f%f0%9f%8f%97%f0%9f%91%b7%e2%99%80%ef%b8%8f/
X-WR-CALDESC:🏗👷‍♀️🦺 Wednesday 11th Feb- CRAWFORD 2PM PAYG ONLY SESSION- Little Builders 📏🏗👷‍♀️🦺
BEGIN:VEVENT
DTSTART;TZID=Europe/Paris:20260211T140000
DTEND;TZID=Europe/Paris:20260211T144500
SUMMARY:🏗👷‍♀️🦺 Wednesday 11th Feb- CRAWFORD 2PM PAYG ONLY SESSION- Little Builders 📏🏗👷‍♀️🦺
DESCRIPTION:
URL:https://bloomtoddlerclasses.com/st-helens/product/%f0%9f%8f%97%f0%9f%91%b7%e2%99%80%ef%b8%8f%f0%9f%a6%ba-wednesday-11th-feb-crawford-2pm-payg-only-session-little-builders-%f0%9f%93%8f%f0%9f%8f%97%f0%9f%91%b7%e2%99%80%ef%b8%8f/
LOCATION:Crawford Village Hut, Crawford, Skelmersdale, UK
END:VEVENT
END:VCALENDAR
