BEGIN:VCALENDAR
VERSION:2.0
PRODID:-//Bloom Toddler Classes St Helens
CALSCALE:GREGORIAN
METHOD:PUBLISH
X-WR-CALNAME:Bloom Toddler Classes St Helens
X-ORIGINAL-URL:https://bloomtoddlerclasses.com/st-helens/product/%f0%9f%92%9a%f0%9f%8c%b1%f0%9f%92%ab-early-spring-term-tuesday-newton-le-willows-11am-social-super-stars-11am-2-4-years-%f0%9f%92%ab%f0%9f%8c%b1%f0%9f%92%9a/
X-WR-CALDESC:💚🌱💫 Early Spring Term- Tuesday &#8211; Newton-le-Willows 11am &#8211; Social Super Stars 11am (2-4 years ) 💫🌱💚
BEGIN:VEVENT
DTSTART;TZID=Europe/Paris:20260224T110000
DTEND;TZID=Europe/Paris:20260324T114500
SUMMARY:💚🌱💫 Early Spring Term- Tuesday – Newton-le-Willows 11am – Social Super Stars 11am (2-4 years ) 💫🌱💚
DESCRIPTION:
URL:https://bloomtoddlerclasses.com/st-helens/product/%f0%9f%92%9a%f0%9f%8c%b1%f0%9f%92%ab-early-spring-term-tuesday-newton-le-willows-11am-social-super-stars-11am-2-4-years-%f0%9f%92%ab%f0%9f%8c%b1%f0%9f%92%9a/
LOCATION:Newton Community Centre - Newton-le-willows, Park Road South, Newton-le-Willows, UK
END:VEVENT
END:VCALENDAR
