BEGIN:VCALENDAR
VERSION:2.0
PRODID:-//Bloom Toddler Classes St Helens
CALSCALE:GREGORIAN
METHOD:PUBLISH
X-WR-CALNAME:Bloom Toddler Classes St Helens
X-ORIGINAL-URL:https://bloomtoddlerclasses.com/st-helens/product/%f0%9f%92%9a%f0%9f%8c%b1%f0%9f%92%ab-early-spring-term-monday-dentons-green-11am-social-super-stars-11am-2-4-years-%f0%9f%92%ab%f0%9f%8c%b1%f0%9f%92%9a/
X-WR-CALDESC:💚🌱💫 Early Spring Term- Monday &#8211; Dentons Green 11am &#8211; Social Super Stars 11am (2-4 years ) 💫🌱💚
BEGIN:VEVENT
DTSTART;TZID=Europe/Paris:20260223T110000
DTEND;TZID=Europe/Paris:20260323T114500
SUMMARY:💚🌱💫 Early Spring Term- Monday – Dentons Green 11am – Social Super Stars 11am (2-4 years ) 💫🌱💚
DESCRIPTION:
URL:https://bloomtoddlerclasses.com/st-helens/product/%f0%9f%92%9a%f0%9f%8c%b1%f0%9f%92%ab-early-spring-term-monday-dentons-green-11am-social-super-stars-11am-2-4-years-%f0%9f%92%ab%f0%9f%8c%b1%f0%9f%92%9a/
LOCATION:KLS Dance Academy, Ruskin Leisure, Ruskin Drive, Saint Helens, UK
END:VEVENT
END:VCALENDAR
