BEGIN:VCALENDAR
VERSION:2.0
PRODID:-//Bloom Toddler Classes St Helens
CALSCALE:GREGORIAN
METHOD:PUBLISH
X-WR-CALNAME:Bloom Toddler Classes St Helens
X-ORIGINAL-URL:https://bloomtoddlerclasses.com/st-helens/product/%f0%9f%92%9b%f0%9f%92%82%e2%99%80%ef%b8%8f%f0%9f%a4%b4friday-23rd-jan-pemberton-11am-payg-trial-2-to-4-years-kings-queens-%f0%9f%a4%b4%f0%9f%92%82%e2%99%80%ef%b8%8f/
X-WR-CALDESC:💛💂‍♀️🤴Friday 23rd Jan- Pemberton 11am PAYG trial- 2 to 4 years-  Kings &amp; Queens 🤴💂‍♀️💛
BEGIN:VEVENT
DTSTART;TZID=Europe/Paris:20260123T110000
DTEND;TZID=Europe/Paris:20260123T114500
SUMMARY:💛💂‍♀️🤴Friday 23rd Jan- Pemberton 11am PAYG trial- 2 to 4 years-  Kings & Queens 🤴💂‍♀️💛
DESCRIPTION:
URL:https://bloomtoddlerclasses.com/st-helens/product/%f0%9f%92%9b%f0%9f%92%82%e2%99%80%ef%b8%8f%f0%9f%a4%b4friday-23rd-jan-pemberton-11am-payg-trial-2-to-4-years-kings-queens-%f0%9f%a4%b4%f0%9f%92%82%e2%99%80%ef%b8%8f/
LOCATION:Fur Clemt Cafe & Food Outlet, Montrose Avenue, Wigan, UK
END:VEVENT
END:VCALENDAR
