BEGIN:VCALENDAR
VERSION:2.0
PRODID:-//Bloom Toddler Classes St Helens
CALSCALE:GREGORIAN
METHOD:PUBLISH
X-WR-CALNAME:Bloom Toddler Classes St Helens
X-ORIGINAL-URL:https://bloomtoddlerclasses.com/st-helens/product/%f0%9f%8c%88%e2%9d%a4%ef%b8%8ffriday-16th-jan-payg-trial-rainbows-colours-10am-pemberton-walking-to-2-%f0%9f%8c%88%e2%9d%a4%ef%b8%8f/
X-WR-CALDESC:🌈❤️Friday 16th Jan- PAYG Trial- Rainbows &amp; Colours- 10am Pemberton- (walking to 2) 🌈❤️
BEGIN:VEVENT
DTSTART;TZID=Europe/Paris:20260116T100000
DTEND;TZID=Europe/Paris:20260116T104500
SUMMARY:🌈❤️Friday 16th Jan- PAYG Trial- Rainbows & Colours- 10am Pemberton- (walking to 2) 🌈❤️
DESCRIPTION:
URL:https://bloomtoddlerclasses.com/st-helens/product/%f0%9f%8c%88%e2%9d%a4%ef%b8%8ffriday-16th-jan-payg-trial-rainbows-colours-10am-pemberton-walking-to-2-%f0%9f%8c%88%e2%9d%a4%ef%b8%8f/
LOCATION:Fur Clemt Cafe & Food Outlet, Montrose Avenue, Wigan, UK
END:VEVENT
END:VCALENDAR
