BEGIN:VCALENDAR
VERSION:2.0
PRODID:-//Bloom Toddler Classes St Helens
CALSCALE:GREGORIAN
METHOD:PUBLISH
X-WR-CALNAME:Bloom Toddler Classes St Helens
X-ORIGINAL-URL:https://bloomtoddlerclasses.com/st-helens/product/%e2%98%83%ef%b8%8f-wednesday-3rd-december-10am-haydock-walking-to-2-years-%e2%98%83%ef%b8%8f-payg/
X-WR-CALDESC:☃️ Wednesday 3rd December- 10am- Haydock- walking to 2 years ☃️ (PAYG)
BEGIN:VEVENT
DTSTART;TZID=Europe/Paris:20251203T100000
DTEND;TZID=Europe/Paris:20251203T104500
SUMMARY:☃️ Wednesday 3rd December- 10am- Haydock- walking to 2 years ☃️ (PAYG)
DESCRIPTION:
URL:https://bloomtoddlerclasses.com/st-helens/product/%e2%98%83%ef%b8%8f-wednesday-3rd-december-10am-haydock-walking-to-2-years-%e2%98%83%ef%b8%8f-payg/
LOCATION:Haydock Conservative Club, Bellerophon Way, Merseyside, UK
END:VEVENT
END:VCALENDAR
