BEGIN:VCALENDAR
VERSION:2.0
PRODID:-//Bloom Toddler Classes St Helens
CALSCALE:GREGORIAN
METHOD:PUBLISH
X-WR-CALNAME:Bloom Toddler Classes St Helens
X-ORIGINAL-URL:https://bloomtoddlerclasses.com/st-helens/product/%e2%98%83%ef%b8%8f-wednesday-3rd-december-11am-haydock-2-4-years-%e2%98%83%ef%b8%8f-payg/
X-WR-CALDESC:☃️ Wednesday 3rd December- 11am- Haydock- 2-4 years ☃️ (PAYG)
BEGIN:VEVENT
DTSTART;TZID=Europe/Paris:20251203T110000
DTEND;TZID=Europe/Paris:20251203T114500
SUMMARY:☃️ Wednesday 3rd December- 11am- Haydock- 2-4 years ☃️ (PAYG)
DESCRIPTION:
URL:https://bloomtoddlerclasses.com/st-helens/product/%e2%98%83%ef%b8%8f-wednesday-3rd-december-11am-haydock-2-4-years-%e2%98%83%ef%b8%8f-payg/
LOCATION:Newton Community Centre - Newton-le-willows, Park Road South, Newton-le-Willows, UK
END:VEVENT
END:VCALENDAR
