BEGIN:VCALENDAR
VERSION:2.0
PRODID:-//Bloom Toddler Classes St Helens
CALSCALE:GREGORIAN
METHOD:PUBLISH
X-WR-CALNAME:Bloom Toddler Classes St Helens
X-ORIGINAL-URL:https://bloomtoddlerclasses.com/st-helens/product/%f0%9f%8c%9f-%f0%9f%92%9b-new-year-term%f0%9f%92%9b-%f0%9f%8c%9f-mondays-in-dentons-green-%f0%9f%92%9b-10am-creative-learners-walking-to-2-%f0%9f%92%9b%f0%9f%8c%9f/
X-WR-CALDESC:🌟 💛 NEW YEAR TERM💛 🌟- Mondays in Dentons Green- 💛 10am Creative Learners (walking to 2) 💛🌟
BEGIN:VEVENT
DTSTART;TZID=Europe/Paris:20260105T100000
DTEND;TZID=Europe/Paris:20260209T104500
SUMMARY:🌟 💛 NEW YEAR TERM💛 🌟- Mondays in Dentons Green- 💛 10am Creative Learners (walking to 2) 💛🌟
DESCRIPTION:Bloom Toddler Classes – Kickstarting 2026 With a Bang! 🎉 Bloom toddler classes are back for the start of 2026, bringing all the fun, learning and sensory magic your little one loves. Our Walking to 2 Years classes are designed to support curious little movers as they grow in confidence, explore the world around them, and strengthen those all-important early skills. Each session encourages: 🗣️ Early communication and language 💛 Confidence and independence 🤝 Social skills and gentle peer interaction 🧠🦶 Movement, balance and coordination ✨ Sensory exploration to spark imagination and curiosity Fun, engaging and development-boosting — the perfect start to your toddler’s week! 🌈
URL:https://bloomtoddlerclasses.com/st-helens/product/%f0%9f%8c%9f-%f0%9f%92%9b-new-year-term%f0%9f%92%9b-%f0%9f%8c%9f-mondays-in-dentons-green-%f0%9f%92%9b-10am-creative-learners-walking-to-2-%f0%9f%92%9b%f0%9f%8c%9f/
LOCATION:KLS Dance Academy, Ruskin Leisure, Ruskin Drive, Saint Helens, UK
END:VEVENT
END:VCALENDAR
