BEGIN:VCALENDAR
VERSION:2.0
PRODID:-//Bloom Toddler Classes St Helens
CALSCALE:GREGORIAN
METHOD:PUBLISH
X-WR-CALNAME:Bloom Toddler Classes St Helens
X-ORIGINAL-URL:https://bloomtoddlerclasses.com/st-helens/product/%e2%9c%a8%f0%9f%96%a4%f0%9f%8e%87-friday-14th-november-pemberton-payg-spaces-firework-week%e2%ad%90-%e2%8f%b0-11am-2-4-years-%f0%9f%8e%87%f0%9f%96%a4/
X-WR-CALDESC:✨🖤🎇 Friday 14th November -Pemberton PAYG spaces -Firework Week⭐ ⏰ 11am &#8211; 2-4 years 🎇🖤
BEGIN:VEVENT
DTSTART;TZID=Europe/Paris:20251114T110000
DTEND;TZID=Europe/Paris:20251114T114500
SUMMARY:✨🖤🎇 Friday 14th November -Pemberton PAYG spaces -Firework Week⭐ ⏰ 11am – 2-4 years 🎇🖤
DESCRIPTION:
URL:https://bloomtoddlerclasses.com/st-helens/product/%e2%9c%a8%f0%9f%96%a4%f0%9f%8e%87-friday-14th-november-pemberton-payg-spaces-firework-week%e2%ad%90-%e2%8f%b0-11am-2-4-years-%f0%9f%8e%87%f0%9f%96%a4/
LOCATION:Fur Clemt Cafe & Food Outlet, Montrose Avenue, Wigan, UK
END:VEVENT
END:VCALENDAR
