BEGIN:VCALENDAR
VERSION:2.0
PRODID:-//Bloom Toddler Classes St Helens
CALSCALE:GREGORIAN
METHOD:PUBLISH
X-WR-CALNAME:Bloom Toddler Classes St Helens
X-ORIGINAL-URL:https://bloomtoddlerclasses.com/st-helens/product/%f0%9f%92%9b-%f0%9f%a7%ba-%f0%9f%8d%af-thursday-13th-november-sutton-payg-spaces-children-in-need-picnic-%e2%8f%b0-10am-walking-to-2-years-%f0%9f%92%9b%f0%9f%a7%ba%f0%9f%8d%af/
X-WR-CALDESC:💛 🧺 🍯 Thursday 13th November -Sutton PAYG spaces &#8211; Children in Need Picnic ⏰ 10am- walking to 2 years 💛🧺🍯
BEGIN:VEVENT
DTSTART;TZID=Europe/Paris:20251113T100000
DTEND;TZID=Europe/Paris:20251113T104500
SUMMARY:💛 🧺 🍯 Thursday 13th November -Sutton PAYG spaces – Children in Need Picnic ⏰ 10am- walking to 2 years 💛🧺🍯
DESCRIPTION:
URL:https://bloomtoddlerclasses.com/st-helens/product/%f0%9f%92%9b-%f0%9f%a7%ba-%f0%9f%8d%af-thursday-13th-november-sutton-payg-spaces-children-in-need-picnic-%e2%8f%b0-10am-walking-to-2-years-%f0%9f%92%9b%f0%9f%a7%ba%f0%9f%8d%af/
LOCATION:Peasley Cross United Reformed Church, Beaufort Street, Saint Helens, UK
END:VEVENT
END:VCALENDAR
