BEGIN:VCALENDAR
VERSION:2.0
PRODID:-//Bloom Toddler Classes St Helens
CALSCALE:GREGORIAN
METHOD:PUBLISH
X-WR-CALNAME:Bloom Toddler Classes St Helens
X-ORIGINAL-URL:https://bloomtoddlerclasses.com/st-helens/product/%e2%9c%a8%f0%9f%96%a4%f0%9f%8e%87-thursday-6th-november-sutton-payg-spaces-firework-week%e2%ad%90-%e2%8f%b0-9-45am-walking-to-2-years-%f0%9f%8e%87%f0%9f%96%a4%e2%9c%a8/
X-WR-CALDESC:✨🖤🎇 Thursday 6th November -Sutton PAYG spaces -Firework Week⭐ ⏰ 9.45am- walking to 2 years 🎇🖤✨
BEGIN:VEVENT
DTSTART;TZID=Europe/Paris:20251106T094500
DTEND;TZID=Europe/Paris:20251106T103000
SUMMARY:✨🖤🎇 Thursday 6th November -Sutton PAYG spaces -Firework Week⭐ ⏰ 9.45am- walking to 2 years 🎇🖤✨
DESCRIPTION:
URL:https://bloomtoddlerclasses.com/st-helens/product/%e2%9c%a8%f0%9f%96%a4%f0%9f%8e%87-thursday-6th-november-sutton-payg-spaces-firework-week%e2%ad%90-%e2%8f%b0-9-45am-walking-to-2-years-%f0%9f%8e%87%f0%9f%96%a4%e2%9c%a8/
LOCATION:Peasley Cross United Reformed Church, Beaufort Street, Saint Helens, UK
END:VEVENT
END:VCALENDAR
