BEGIN:VCALENDAR
VERSION:2.0
PRODID:-//Bloom Toddler Classes St Helens
CALSCALE:GREGORIAN
METHOD:PUBLISH
X-WR-CALNAME:Bloom Toddler Classes St Helens
X-ORIGINAL-URL:https://bloomtoddlerclasses.com/st-helens/product/%f0%9f%8e%85%e2%98%83%ef%b8%8fblooming-jolly-christmas-special-%f0%9f%8e%85%e2%98%83%ef%b8%8f-thursday-18th-december-10-50am-sutton-2-4-years%f0%9f%8e%85%e2%98%83/
X-WR-CALDESC:🎅☃️&#8217;Blooming&#8217; Jolly Christmas Special 🎅☃️ &#8211; Thursday 18th December 10.50am- Sutton &#8211; 2-4 years🎅☃ &#8211; 2 left!
BEGIN:VEVENT
DTSTART;TZID=Europe/Paris:20251218T105000
DTEND;TZID=Europe/Paris:20251218T115000
SUMMARY:🎅☃️’Blooming’ Jolly Christmas Special 🎅☃️ – Thursday 18th December 10.50am- Sutton – 2-4 years🎅☃ – 2 left!
DESCRIPTION:The perfect way to start your festive season in style! Bloom Toddler's First Festive Parties are here!   A jolly good time guaranteed! There's snow time like the present to book those spots! Bound to be tree-mendously popular! What can you expect?  Some Bloom classic songs &amp; dances with a festive twist! Christmas sensory tuff trays &amp; activities! Get crafty and create your own tree decoration &amp; card to take home  Make your own magical reindeer food to take home &amp; sprinkle! Snack &amp; chill time A gift for each child Festive songs, games, dancing &amp; zen time!  A personalised letter from Santa (I know him!)    Festive backdrop, props &amp; photo opportunities! AND SO MUCH MORE! Yule be foolish to miss out on this one! Can you tell I love Christmas?
URL:https://bloomtoddlerclasses.com/st-helens/product/%f0%9f%8e%85%e2%98%83%ef%b8%8fblooming-jolly-christmas-special-%f0%9f%8e%85%e2%98%83%ef%b8%8f-thursday-18th-december-10-50am-sutton-2-4-years%f0%9f%8e%85%e2%98%83/
LOCATION:Peasley Cross United Reformed Church, Beaufort Street, Saint Helens, UK
END:VEVENT
END:VCALENDAR
