BEGIN:VCALENDAR
VERSION:2.0
PRODID:-//Bloom Toddler Classes St Helens
CALSCALE:GREGORIAN
METHOD:PUBLISH
X-WR-CALNAME:Bloom Toddler Classes St Helens
X-ORIGINAL-URL:https://bloomtoddlerclasses.com/st-helens/product/%e2%98%83%ef%b8%8f%f0%9f%a5%b6-winter-term-thursdays-in-pemberton-with-ella-%e2%9d%84%ef%b8%8fcreative-learners-%e2%9d%84%ef%b8%8f-walking-to-4-years-mixed-age-10am-%e2%98%83%ef%b8%8f%f0%9f%a5%b6/
X-WR-CALDESC:☃️🥶 Winter Term- Thursdays in Pemberton with Ella- ❄️Mixed Age ❄️- walking to 4 years -10am ☃️🥶
BEGIN:VEVENT
DTSTART;TZID=Europe/Paris:20251106T100000
DTEND;TZID=Europe/Paris:20251204T104500
SUMMARY:☃️🥶 Winter Term- Thursdays in Pemberton with Ella- ❄️Mixed Age ❄️- walking to 4 years -10am ☃️🥶
DESCRIPTION:☃️🥶  Bloom is back for the most magical term of the year! Winter! ☃️🥶 ☀️ Bloom Toddler Classes are highly interactive toddler classes with back to back activities which focus on meeting early learning goals, nurturing a safe space for toddlers and their grown ups to spend 45 minutes of quality time together! 🎭 With weekly themes, we expose a multi sensory learning adventure, helping toddlers to understand the world around them, flourish in a language rich environment and enjoy a range of age-appropriate games, songs and tasks which helps support their developmental milestones! ❤️Come and find out why once you bloom, you just don't look back!
URL:https://bloomtoddlerclasses.com/st-helens/product/%e2%98%83%ef%b8%8f%f0%9f%a5%b6-winter-term-thursdays-in-pemberton-with-ella-%e2%9d%84%ef%b8%8fcreative-learners-%e2%9d%84%ef%b8%8f-walking-to-4-years-mixed-age-10am-%e2%98%83%ef%b8%8f%f0%9f%a5%b6/
LOCATION:Fur Clemt Cafe & Food Outlet, Montrose Avenue, Wigan, UK
END:VEVENT
END:VCALENDAR
