BEGIN:VCALENDAR
VERSION:2.0
PRODID:-//Bloom Toddler Classes St Helens
CALSCALE:GREGORIAN
METHOD:PUBLISH
X-WR-CALNAME:Bloom Toddler Classes St Helens
X-ORIGINAL-URL:https://bloomtoddlerclasses.com/st-helens/product/%f0%9f%8f%a5-%f0%9f%92%8a-%f0%9f%a7%b8-thursday-25th-september-payg-10am-%e2%8f%b0-walking-to-2-toy-hospital-%f0%9f%a7%b8%f0%9f%92%8a%f0%9f%8f%a5/
X-WR-CALDESC:🏥 💊 🧸 Thursday 25th September PAYG- 10am ⏰- walking to 2- Toy Hospital 🧸💊🏥
BEGIN:VEVENT
DTSTART;TZID=Europe/Paris:20250925T094500
DTEND;TZID=Europe/Paris:20250925T103000
SUMMARY:🏥 💊 🧸 Thursday 25th September PAYG- 10am ⏰- walking to 2- Toy Hospital 🧸💊🏥
DESCRIPTION:
URL:https://bloomtoddlerclasses.com/st-helens/product/%f0%9f%8f%a5-%f0%9f%92%8a-%f0%9f%a7%b8-thursday-25th-september-payg-10am-%e2%8f%b0-walking-to-2-toy-hospital-%f0%9f%a7%b8%f0%9f%92%8a%f0%9f%8f%a5/
LOCATION:Peasley Cross United Reformed Church, Beaufort Street, Saint Helens, UK
END:VEVENT
END:VCALENDAR
