BEGIN:VCALENDAR
VERSION:2.0
PRODID:-//Bloom Toddler Classes St Helens
CALSCALE:GREGORIAN
METHOD:PUBLISH
X-WR-CALNAME:Bloom Toddler Classes St Helens
X-ORIGINAL-URL:https://bloomtoddlerclasses.com/st-helens/product/%f0%9f%97%ba%ef%b8%8f%f0%9f%a6%9c%e2%98%a0%ef%b8%8f-thursday-7th-august-payg-peasley-cross-urc-9-45am-walking-to-2-years-%f0%9f%97%ba%ef%b8%8f%f0%9f%a6%9c%e2%98%a0%ef%b8%8f/
X-WR-CALDESC:🗺️🦜☠️ Thursday 7th August PAYG &#8211; Peasley Cross URC 9.45am- walking to 2 years 🗺️🦜☠️
BEGIN:VEVENT
DTSTART;TZID=Europe/Paris:20250807T094500
DTEND;TZID=Europe/Paris:20250807T103000
SUMMARY:🗺️🦜☠️ Thursday 7th August PAYG – Peasley Cross URC 9.45am- walking to 2 years 🗺️🦜☠️
DESCRIPTION:
URL:https://bloomtoddlerclasses.com/st-helens/product/%f0%9f%97%ba%ef%b8%8f%f0%9f%a6%9c%e2%98%a0%ef%b8%8f-thursday-7th-august-payg-peasley-cross-urc-9-45am-walking-to-2-years-%f0%9f%97%ba%ef%b8%8f%f0%9f%a6%9c%e2%98%a0%ef%b8%8f/
LOCATION:Peasley Cross United Reformed Church, Beaufort Street, Saint Helens, UK
END:VEVENT
END:VCALENDAR
