BEGIN:VCALENDAR
VERSION:2.0
PRODID:-//Bloom Toddler Classes St Helens
CALSCALE:GREGORIAN
METHOD:PUBLISH
X-WR-CALNAME:Bloom Toddler Classes St Helens
X-ORIGINAL-URL:https://bloomtoddlerclasses.com/st-helens/product/%f0%9f%8d%82-%f0%9f%a7%a1-autumn-term-fridays-in-pemberton-with-ella-%f0%9f%a5%a7-social-super-stars-%f0%9f%a5%a7-2-4-years-11am-%f0%9f%a7%a1/
X-WR-CALDESC:🍂 🧡 Autumn Term- Fridays in Pemberton with Ella- 🥧 Social Super Stars 🥧- 2- 4 years- 11am 🧡
BEGIN:VEVENT
DTSTART;TZID=Europe/Paris:20250905T110000
DTEND;TZID=Europe/Paris:20251010T114500
SUMMARY:🍂 🧡 Autumn Term- Fridays in Pemberton with Ella- 🥧 Social Super Stars 🥧- 2- 4 years- 11am 🧡
DESCRIPTION:💛   Bloom is back for the beginning of the new academic year with the return of our wonderful Wigan classes! ☀️ Bloom Toddler Classes are highly interactive toddler classes with back to back activities which focus on meeting early learning goals, nurturing a safe space for toddlers and their grown ups to spend 45 minutes of quality time together! 🎭 With weekly themes, we expose a multi sensory learning adventure, helping toddlers to understand the world around them, flourish in a language rich environment and enjoy a range of age-appropriate games, songs and tasks which helps support their developmental milestones! ❤️Come and find out why once you bloom, you just don't look back!
URL:https://bloomtoddlerclasses.com/st-helens/product/%f0%9f%8d%82-%f0%9f%a7%a1-autumn-term-fridays-in-pemberton-with-ella-%f0%9f%a5%a7-social-super-stars-%f0%9f%a5%a7-2-4-years-11am-%f0%9f%a7%a1/
LOCATION:Fur Clemt Cafe & Food Outlet, Montrose Avenue, Wigan, UK
END:VEVENT
END:VCALENDAR
