BEGIN:VCALENDAR
VERSION:2.0
PRODID:-//Bloom Toddler Classes St Helens
CALSCALE:GREGORIAN
METHOD:PUBLISH
X-WR-CALNAME:Bloom Toddler Classes St Helens
X-ORIGINAL-URL:https://bloomtoddlerclasses.com/st-helens/product/%f0%9f%a7%9b%f0%9f%8f%bb%e2%99%80%ef%b8%8f%f0%9f%8e%83-spooktacular-halloween-party-%f0%9f%a7%9b%f0%9f%8f%bb%e2%99%80%ef%b8%8f%f0%9f%8e%83-friday-24th-october-pemberton-with-ella/
X-WR-CALDESC:🧛🏻‍♀️🎃 Spooktacular Halloween Party 🧛🏻‍♀️🎃 &#8211; Friday 24th October- Pemberton with Ella🎃🧛🏻‍♀️- Mixed Age (walking to 4 years)- 10:05am 🎃🧛🏻‍♀️
BEGIN:VEVENT
DTSTART;TZID=Europe/Paris:20251024T100500
DTEND;TZID=Europe/Paris:20251024T110500
SUMMARY:🧛🏻‍♀️🎃 Spooktacular Halloween Party 🧛🏻‍♀️🎃 – Friday 24th October- Pemberton with Ella🎃🧛🏻‍♀️- Mixed Age (walking to 4 years)- 10:05am 🎃🧛🏻‍♀️
DESCRIPTION:Fang-tastic News! Bloom Toddler St Helens Best-Selling Halloween Specials are here! We are back  with more spook-tacular fun than ever! Will it be a trick? Will it be a treat? Join us to find out! You’d be Ghhhoooolish to miss out! Bloom Songs ft Halloween Disco Music! Halloween Craft Time! Spook-tacular Tuff Trays, Monstrous Messy Play &amp; More... Tasty Treats..or Tricks! Spooky Photo Area Fancy Dress Competition (optional) Get ready to monster mash! It wouldn't be halloween 'witch' out you! Classes sold out in record time last year, so don't miss out! Sibling discount available (50% off your second ticket)- message for a code!
URL:https://bloomtoddlerclasses.com/st-helens/product/%f0%9f%a7%9b%f0%9f%8f%bb%e2%99%80%ef%b8%8f%f0%9f%8e%83-spooktacular-halloween-party-%f0%9f%a7%9b%f0%9f%8f%bb%e2%99%80%ef%b8%8f%f0%9f%8e%83-friday-24th-october-pemberton-with-ella/
LOCATION:Fur Clemt Cafe & Food Outlet, Montrose Avenue, Wigan, UK
END:VEVENT
END:VCALENDAR
