BEGIN:VCALENDAR
VERSION:2.0
PRODID:-//Bloom Toddler Classes St Helens
CALSCALE:GREGORIAN
METHOD:PUBLISH
X-WR-CALNAME:Bloom Toddler Classes St Helens
X-ORIGINAL-URL:https://bloomtoddlerclasses.com/st-helens/product/%f0%9f%9a%82%f0%9f%9a%86-%f0%9f%92%9a-%f0%9f%92%99-bloom-toddler-train-master-collaboration-special-%f0%9f%92%99%f0%9f%92%9a%f0%9f%9a%86%f0%9f%9a%82-sunday-31st-august-11-15am-2-4-years/
X-WR-CALDESC:🚂🚆 💚 💙 Bloom Toddler &amp; Train Master Collaboration Special &#8211; 💙💚🚆🚂- Sunday 31st August 11.15am- 2-4 years 💚💙🚆🚂 ⛔ SOLD out ⛔
BEGIN:VEVENT
DTSTART;TZID=Europe/Paris:20250831T111500
DTEND;TZID=Europe/Paris:20250831T121500
SUMMARY:🚂🚆 💚 💙 Bloom Toddler & Train Master Collaboration Special – 💙💚🚆🚂- Sunday 31st August 11.15am- 2-4 years 💚💙🚆🚂 ⛔ SOLD out ⛔
DESCRIPTION:CHOOOOO CHOOOO 🚆🚂💚💙 Its the collaboration of dreams: Toddler Classes St Helens meets Train Master Merseyside! 🎶 💙 20 minutes of Bloom songs &amp; dancing 🚆🚂💙 30 minutes of epic trains! That's giant train tracks, ride on coasters and fancy dress! 🍪 🍌 10 minutes of snack &amp; story time- a train-themed book just for you! 🚆 🚂 Your very own train stickers or craft to take home. Ticket includes one adult and one child only. All attending children must have a ticket otherwise they will not be able to participate in use of the equipment/snacks etc. Sibling discount upon request.
URL:https://bloomtoddlerclasses.com/st-helens/product/%f0%9f%9a%82%f0%9f%9a%86-%f0%9f%92%9a-%f0%9f%92%99-bloom-toddler-train-master-collaboration-special-%f0%9f%92%99%f0%9f%92%9a%f0%9f%9a%86%f0%9f%9a%82-sunday-31st-august-11-15am-2-4-years/
LOCATION:
END:VEVENT
END:VCALENDAR
