BEGIN:VCALENDAR
VERSION:2.0
PRODID:-//Bloom Toddler Classes St Helens
CALSCALE:GREGORIAN
METHOD:PUBLISH
X-WR-CALNAME:Bloom Toddler Classes St Helens
X-ORIGINAL-URL:https://bloomtoddlerclasses.com/st-helens/product/%f0%9f%92%9b%e2%98%80%ef%b8%8f%e2%ad%90-friday-22nd-august-pemberton-summer-session-3-bloom-fest-%f0%9f%8e%89-%e2%9b%ba-social-super-stars-%e2%8f%b0-11am-%e2%ad%90-%e2%98%80%ef%b8%8f%f0%9f%92%9b/
X-WR-CALDESC:💛☀️⭐ FRIDAY 22nd August Pemberton &#8211; Summer session 3- Bloom Fest 🎉 ⛺- Social Super Stars ⏰ 11am ⭐ ☀️💛
BEGIN:VEVENT
DTSTART;TZID=Europe/Paris:20250822T110000
DTEND;TZID=Europe/Paris:20250822T114500
SUMMARY:💛☀️⭐ FRIDAY 22nd August Pemberton – Summer session 3- Bloom Fest 🎉 ⛺- Social Super Stars ⏰ 11am ⭐ ☀️💛
DESCRIPTION:
URL:https://bloomtoddlerclasses.com/st-helens/product/%f0%9f%92%9b%e2%98%80%ef%b8%8f%e2%ad%90-friday-22nd-august-pemberton-summer-session-3-bloom-fest-%f0%9f%8e%89-%e2%9b%ba-social-super-stars-%e2%8f%b0-11am-%e2%ad%90-%e2%98%80%ef%b8%8f%f0%9f%92%9b/
LOCATION:Fur Clemt Cafe & Food Outlet, Montrose Avenue, Wigan, UK
END:VEVENT
END:VCALENDAR
