BEGIN:VCALENDAR
VERSION:2.0
PRODID:-//Bloom Toddler Classes St Helens
CALSCALE:GREGORIAN
METHOD:PUBLISH
X-WR-CALNAME:Bloom Toddler Classes St Helens
X-ORIGINAL-URL:https://bloomtoddlerclasses.com/st-helens/product/%f0%9f%92%9b%e2%98%80%ef%b8%8f%f0%9f%8e%a8friday-25th-july-pemberton-summer-session-1-down-in-the-garden-%f0%9f%8c%ba-%f0%9f%8f%a1-%f0%9f%8c%bf-creative-learners-walking-to-2-%e2%8f%b0-10am/
X-WR-CALDESC:💛☀️🎨FRIDAY 25th July Pemberton &#8211; Summer session 1- Down in the Garden 🌺 🏡 🌿- Creative Learners (walking to 2)- ⏰ 10am 🎨☀️💛
BEGIN:VEVENT
DTSTART;TZID=Europe/Paris:20250725T100000
DTEND;TZID=Europe/Paris:20250725T104500
SUMMARY:💛☀️🎨FRIDAY 25th July Pemberton – Summer session 1- Down in the Garden 🌺 🏡 🌿- Creative Learners (walking to 2)- ⏰ 10am 🎨☀️💛
DESCRIPTION:
URL:https://bloomtoddlerclasses.com/st-helens/product/%f0%9f%92%9b%e2%98%80%ef%b8%8f%f0%9f%8e%a8friday-25th-july-pemberton-summer-session-1-down-in-the-garden-%f0%9f%8c%ba-%f0%9f%8f%a1-%f0%9f%8c%bf-creative-learners-walking-to-2-%e2%8f%b0-10am/
LOCATION:Fur Clemt Cafe & Food Outlet, Montrose Avenue, Wigan, UK
END:VEVENT
END:VCALENDAR
