BEGIN:VCALENDAR
VERSION:2.0
PRODID:-//Bloom Toddler Classes St Helens
CALSCALE:GREGORIAN
METHOD:PUBLISH
X-WR-CALNAME:Bloom Toddler Classes St Helens
X-ORIGINAL-URL:https://bloomtoddlerclasses.com/st-helens/product/%f0%9f%93%8d-monday-16th-payg-orrell-sports-day-%f0%9f%8f%88-%f0%9f%8f%80-%f0%9f%a5%87-10am-walking-to-2/
X-WR-CALDESC:📍 Monday 16th PAYG &#8211; ORRELL &#8211; SPORTS DAY 🏈 🏀 🥇- 10AM &#8211; WALKING TO 2
BEGIN:VEVENT
DTSTART;TZID=Europe/Paris:20250616T100000
DTEND;TZID=Europe/Paris:20250616T104500
SUMMARY:📍 Monday 16th PAYG – ORRELL – SPORTS DAY 🏈 🏀 🥇- 10AM – WALKING TO 2
DESCRIPTION:
URL:https://bloomtoddlerclasses.com/st-helens/product/%f0%9f%93%8d-monday-16th-payg-orrell-sports-day-%f0%9f%8f%88-%f0%9f%8f%80-%f0%9f%a5%87-10am-walking-to-2/
LOCATION:Living Faith Church, Church Street, Orrell, Wigan, UK
END:VEVENT
END:VCALENDAR
