BEGIN:VCALENDAR
VERSION:2.0
PRODID:-//Bloom Toddler Classes St Helens
CALSCALE:GREGORIAN
METHOD:PUBLISH
X-WR-CALNAME:Bloom Toddler Classes St Helens
X-ORIGINAL-URL:https://bloomtoddlerclasses.com/st-helens/product/%f0%9f%93%8d-monday-orrell-payg-trial-%e2%ad%90-social-super-stars-2-4-years-little-scientist-%f0%9f%a5%bc%f0%9f%a7%aa/
X-WR-CALDESC:📍 Monday Orrell PAYG Trial &#8211; ⭐ Social Super Stars (2-4 years) &#8211; Little Scientist 🥼🧪
BEGIN:VEVENT
DTSTART;TZID=Europe/Paris:20250602T110000
DTEND;TZID=Europe/Paris:20250602T114500
SUMMARY:📍 Monday Orrell PAYG Trial – ⭐ Social Super Stars (2-4 years) – Little Scientist 🥼🧪
DESCRIPTION:
URL:https://bloomtoddlerclasses.com/st-helens/product/%f0%9f%93%8d-monday-orrell-payg-trial-%e2%ad%90-social-super-stars-2-4-years-little-scientist-%f0%9f%a5%bc%f0%9f%a7%aa/
LOCATION:Living Faith Church, Church Street, Orrell, Wigan, UK
END:VEVENT
END:VCALENDAR
