BEGIN:VCALENDAR
VERSION:2.0
PRODID:-//Bloom Toddler Classes St Helens
CALSCALE:GREGORIAN
METHOD:PUBLISH
X-WR-CALNAME:Bloom Toddler Classes St Helens
X-ORIGINAL-URL:https://bloomtoddlerclasses.com/st-helens/product/%f0%9f%a6%b8%e2%ad%90%e2%9d%a4%ef%b8%8f-daddy-youre-my-hero-fathers-day-special-sunday-8th-june-11-10am-2-4-years-%e2%9d%a4%ef%b8%8f%e2%ad%90%f0%9f%a6%b8/
X-WR-CALDESC:🦸⭐❤️ DADDY YOU&#8217;RE MY HERO- FATHER&#8217;S DAY SPECIAL- Sunday 8th June- 11.10am (2-4 years ) ❤️⭐🦸⛔ SOLD out ⛔
BEGIN:VEVENT
DTSTART;TZID=Europe/Paris:20250608T111000
DTEND;TZID=Europe/Paris:20250608T121000
SUMMARY:🦸⭐❤️ DADDY YOU’RE MY HERO- FATHER’S DAY SPECIAL- Sunday 8th June- 11.10am (2-4 years ) ❤️⭐🦸⛔ SOLD out ⛔
DESCRIPTION:🦸It is the return of everyone's favourite theme for this session with some of our most loved activities to share with Daddy, but with SO much more heroic adventures to be had! ❤️Dress up in your mask and cape and fly with your very own hero! 📸 Pose for a photo in our super hero city with the man of the day! 🕸️ Web flinger- fling those webs like everyone's favourite friendly neighborhood spider! ‼️Save the supers- rescue the heroes caught in the nets, trapped in the prison or stuck in the sticky slime! 🦹Villains be gone- practice your aiming and firing as we knock the villains out of our town! 🎨 Craft your own hero &amp; card to take home for your special grown up this Father's Day whilst enjoying your yummy snacks. Tickets will cost £12.50 for two adults &amp; one child
URL:https://bloomtoddlerclasses.com/st-helens/product/%f0%9f%a6%b8%e2%ad%90%e2%9d%a4%ef%b8%8f-daddy-youre-my-hero-fathers-day-special-sunday-8th-june-11-10am-2-4-years-%e2%9d%a4%ef%b8%8f%e2%ad%90%f0%9f%a6%b8/
LOCATION:KLS Dance Academy, Ruskin Leisure, Ruskin Drive, Saint Helens, UK
END:VEVENT
END:VCALENDAR
