BEGIN:VCALENDAR
VERSION:2.0
PRODID:-//Bloom Toddler Classes St Helens
CALSCALE:GREGORIAN
METHOD:PUBLISH
X-WR-CALNAME:Bloom Toddler Classes St Helens
X-ORIGINAL-URL:https://bloomtoddlerclasses.com/st-helens/product/%f0%9f%90%b6%f0%9f%98%bamonday-3rd-feb-payg-trial-little-pets-%f0%9f%90%b6%f0%9f%98%ba-12pm-dentons-green-mixed-age-%f0%9f%90%b6-%f0%9f%98%ba/
X-WR-CALDESC:🐶😺Monday 3rd Feb PAYG trial- Little Pets 🐶😺- 12pm Denton&#8217;s Green &#8211; Mixed Age 🐶 😺
BEGIN:VEVENT
DTSTART;TZID=Europe/Paris:20250203T120000
DTEND;TZID=Europe/Paris:20250203T124500
SUMMARY:🐶😺Monday 3rd Feb PAYG trial- Little Pets 🐶😺- 12pm Denton’s Green – Mixed Age 🐶 😺
DESCRIPTION:
URL:https://bloomtoddlerclasses.com/st-helens/product/%f0%9f%90%b6%f0%9f%98%bamonday-3rd-feb-payg-trial-little-pets-%f0%9f%90%b6%f0%9f%98%ba-12pm-dentons-green-mixed-age-%f0%9f%90%b6-%f0%9f%98%ba/
LOCATION:KLS Dance Academy, Ruskin Leisure, Ruskin Drive, Saint Helens, UK
END:VEVENT
END:VCALENDAR
