BEGIN:VCALENDAR
VERSION:2.0
PRODID:-//Bloom Toddler Classes St Helens
CALSCALE:GREGORIAN
METHOD:PUBLISH
X-WR-CALNAME:Bloom Toddler Classes St Helens
X-ORIGINAL-URL:https://bloomtoddlerclasses.com/st-helens/product/%e2%9d%a4%ef%b8%8f%f0%9f%a9%b7%f0%9f%92%95-love-blooms-new-valentines-special-st-helens-monday-17th-feb-10mwalking-to-4-%f0%9f%92%95%f0%9f%a9%b7%e2%9d%a4%ef%b8%8f-%e2%9b%94/
X-WR-CALDESC:❤️🩷💕 LOVE BLOOMS *NEW* Valentines Special-St helens-  Monday 17th Feb 10m(walking to 4) 💕🩷❤️ ⛔ SOLD OUT ⛔
BEGIN:VEVENT
DTSTART;TZID=Europe/Paris:20250217T100000
DTEND;TZID=Europe/Paris:20250217T105500
SUMMARY:❤️🩷💕 LOVE BLOOMS *NEW* Valentines Special-St helens-  Monday 17th Feb 10m(walking to 4) 💕🩷❤️ ⛔ SOLD OUT ⛔
DESCRIPTION:❤️💕❣️ Join us on Monday 17th February for our LOVE BLOOMS themed classes to celebrate Valentine's! ❣️💕❤️ &nbsp; ⭐ This session is a mixed age session suitable for tots walking or 15 months (whichever is first) to 4 years⭐ 💓What to expect? An extended class time, that's a whole extra ten minutes of Bloom fun! 🎶 Our usual Bloom songs and fun! 💕Make your own Valentines Day card to take home ❤️Valentines take home craft to create alongside your grown up, whist you have a yummy snack 🩷Valentines Day themed tuff trays to explore, learn and play and so much more! We hope to see you there! Gemma xx
URL:https://bloomtoddlerclasses.com/st-helens/product/%e2%9d%a4%ef%b8%8f%f0%9f%a9%b7%f0%9f%92%95-love-blooms-new-valentines-special-st-helens-monday-17th-feb-10mwalking-to-4-%f0%9f%92%95%f0%9f%a9%b7%e2%9d%a4%ef%b8%8f-%e2%9b%94/
LOCATION:KLS Dance Academy, Ruskin Leisure, Ruskin Drive, Saint Helens, UK
END:VEVENT
END:VCALENDAR
