BEGIN:VCALENDAR
VERSION:2.0
PRODID:-//Bloom Toddler Classes St Helens
CALSCALE:GREGORIAN
METHOD:PUBLISH
X-WR-CALNAME:Bloom Toddler Classes St Helens
X-ORIGINAL-URL:https://bloomtoddlerclasses.com/st-helens/product/%f0%9f%90%89-%f0%9f%92%97monday-13th-january-payg-trial-mythical-creatures-%f0%9f%90%89%f0%9f%92%97-12pm-dentons-green-mixed-age%f0%9f%90%89%f0%9f%92%97/
X-WR-CALDESC:🐉 💗Monday 13th January PAYG trial- Mythical Creatures 🐉💗 &#8211; 12pm Denton&#8217;s Green &#8211; Mixed Age🐉💗
BEGIN:VEVENT
DTSTART;TZID=Europe/Paris:20250113T120000
DTEND;TZID=Europe/Paris:20250113T124500
SUMMARY:🐉 💗Monday 13th January PAYG trial- Mythical Creatures 🐉💗 – 12pm Denton’s Green – Mixed Age🐉💗
DESCRIPTION:
URL:https://bloomtoddlerclasses.com/st-helens/product/%f0%9f%90%89-%f0%9f%92%97monday-13th-january-payg-trial-mythical-creatures-%f0%9f%90%89%f0%9f%92%97-12pm-dentons-green-mixed-age%f0%9f%90%89%f0%9f%92%97/
LOCATION:
END:VEVENT
END:VCALENDAR
