BEGIN:VCALENDAR
VERSION:2.0
PRODID:-//Bloom Toddler Classes St Helens
CALSCALE:GREGORIAN
METHOD:PUBLISH
X-WR-CALNAME:Bloom Toddler Classes St Helens
X-ORIGINAL-URL:https://bloomtoddlerclasses.com/st-helens/product/early-bird-discount-%f0%9f%92%9a%f0%9f%92%9b-fridays-early-spring-term-creative-learners-walking-to-2-years-%f0%9f%92%9bwigan-pemberton-with-ella-%f0%9f%92%9b-%f0%9f%92%9a/
X-WR-CALDESC:💚💛 Fridays- Early Spring Term &#8211; Creative Learners (walking to 2 years) &#8211; 💛Wigan- Pemberton with Ella 💛 💚
BEGIN:VEVENT
DTSTART;TZID=Europe/Paris:20250228T100000
DTEND;TZID=Europe/Paris:20250404T104500
SUMMARY:💚💛 Fridays- Early Spring Term – Creative Learners (walking to 2 years) – 💛Wigan- Pemberton with Ella 💛 💚
DESCRIPTION:💛   Bloom is back for the beginning of our 2025 Spring season! After a delay in our launch, we are officially back on track! 💛 Join us for our brand new classes across Wigan with Ella- Fridays in Pemberton! ❄️ Bloom Toddler Classes are highly interactive toddler classes with back to back activities which focus on meeting early learning goals, nurturing a safe space for toddlers and their grown ups to spend 45 minutes of quality time together! 🎭 With 6 weekly themes, we expose a multi sensory learning adventure, helping toddlers to understand the world around them, flourish in a language rich environment and enjoy a range of age-appropriate games, songs and tasks which helps support their developmental milestones! ❤️Come and find out why once you bloom, you just don't look back!
URL:https://bloomtoddlerclasses.com/st-helens/product/early-bird-discount-%f0%9f%92%9a%f0%9f%92%9b-fridays-early-spring-term-creative-learners-walking-to-2-years-%f0%9f%92%9bwigan-pemberton-with-ella-%f0%9f%92%9b-%f0%9f%92%9a/
LOCATION:Fur Clemt Cafe & Food Outlet, Montrose Avenue, Wigan, UK
END:VEVENT
END:VCALENDAR
