BEGIN:VCALENDAR
VERSION:2.0
PRODID:-//Bloom Toddler Classes St Helens
CALSCALE:GREGORIAN
METHOD:PUBLISH
X-WR-CALNAME:Bloom Toddler Classes St Helens
X-ORIGINAL-URL:https://bloomtoddlerclasses.com/st-helens/product/%e2%9d%a4%ef%b8%8f%f0%9f%a9%b7%f0%9f%92%95-love-blooms-valentines-special-wigan-launch-wait-list-wigan-friday-14th-feb-10-15am-%f0%9f%92%95%f0%9f%a9%b7%e2%9d%a4%ef%b8%8f/
X-WR-CALDESC:❤️🩷💕 LOVE BLOOMS Valentines Special- WIGAN, Pemberton &#8211; Friday 14th Feb 10.15am  ( mixed age) 💕🩷❤️- ⛔ SOLD out ⛔
BEGIN:VEVENT
DTSTART;TZID=Europe/Paris:20250214T101500
DTEND;TZID=Europe/Paris:20250214T111000
SUMMARY:❤️🩷💕 LOVE BLOOMS Valentines Special- WIGAN, Pemberton – Friday 14th Feb 10.15am  ( mixed age) 💕🩷❤️- ⛔ SOLD out ⛔
DESCRIPTION:❤️💕❣️ Join us on Friday 14th February for our LOVE BLOOMS themed classes to launch our classes into Wigan! ❣️💕❤️ Yes that's right, you won't find this class in your termly bookings &amp; will officially mark the launch of our classes into Wigan, so prepare for an extra special- special! 💓What to expect? An extended class time, that's a whole extra ten minutes of Bloom fun! 🎶 Our usual Bloom songs and fun! 💕Make your own Valentines Day card to take home ❤️Valentines take home craft to create alongside your grown up, whist you have a yummy snack 🩷Valentines Day themed tuff trays to explore, learn and play and so much more! We hope to see you there! Gemma xx
URL:https://bloomtoddlerclasses.com/st-helens/product/%e2%9d%a4%ef%b8%8f%f0%9f%a9%b7%f0%9f%92%95-love-blooms-valentines-special-wigan-launch-wait-list-wigan-friday-14th-feb-10-15am-%f0%9f%92%95%f0%9f%a9%b7%e2%9d%a4%ef%b8%8f/
LOCATION:Fur Clemt Cafe & Food Outlet, Montrose Avenue, Wigan, UK
END:VEVENT
END:VCALENDAR
