BEGIN:VCALENDAR
VERSION:2.0
PRODID:-//Bloom Toddler Classes St Helens
CALSCALE:GREGORIAN
METHOD:PUBLISH
X-WR-CALNAME:Bloom Toddler Classes St Helens
X-ORIGINAL-URL:https://bloomtoddlerclasses.com/st-helens/product/%e2%9d%84%ef%b8%8f-%f0%9f%92%99-wednesday-winter-term-creative-learners-walking-to-2-years-%f0%9f%92%99-haydock%f0%9f%92%99%e2%9d%84%ef%b8%8f/
X-WR-CALDESC:❄️ 💙 Wednesday &#8211;  Winter Term &#8211; Creative Learners (walking to 2 years) &#8211; 💙 Haydock💙❄️- ⛔ SOLD OUT ⛔
BEGIN:VEVENT
DTSTART;TZID=Europe/Paris:20241106T100000
DTEND;TZID=Europe/Paris:20241211T104500
SUMMARY:❄️ 💙 Wednesday –  Winter Term – Creative Learners (walking to 2 years) – 💙 Haydock💙❄️- ⛔ SOLD OUT ⛔
DESCRIPTION:☃️☃️  Bloom is back for  our wonderful Winter Term! ☃️☃️ A highly interactive toddler class with back to back activities which focus on meeting early learning goals set to our own bespoke Bloom soundtrack! 🎭 With 6 weekly themes, we expose a multi sensory learning adventure, helping toddlers to understand the world around them, flourish in a language rich environment and enjoy a range of age-appropriate games, songs and tasks which helps support their developmental milestones!
URL:https://bloomtoddlerclasses.com/st-helens/product/%e2%9d%84%ef%b8%8f-%f0%9f%92%99-wednesday-winter-term-creative-learners-walking-to-2-years-%f0%9f%92%99-haydock%f0%9f%92%99%e2%9d%84%ef%b8%8f/
LOCATION:Haydock Conservative Club, Bellerophon Way, Merseyside, UK
END:VEVENT
END:VCALENDAR
