BEGIN:VCALENDAR
VERSION:2.0
PRODID:-//Bloom Toddler Classes St Helens
CALSCALE:GREGORIAN
METHOD:PUBLISH
X-WR-CALNAME:Bloom Toddler Classes St Helens
X-ORIGINAL-URL:https://bloomtoddlerclasses.com/st-helens/product/%f0%9f%a7%9b%f0%9f%8f%bb%e2%99%80%ef%b8%8f%f0%9f%8e%83-spooktacular-halloween-party-%f0%9f%a7%9b%f0%9f%8f%bb%e2%99%80%ef%b8%8f%f0%9f%8e%83-sunday-27th-october-dentons-green-2/
X-WR-CALDESC:🧛🏻‍♀️🎃 Spooktacular Halloween Party 🧛🏻‍♀️🎃 &#8211; Sunday 27th October &#8211; Dentons Green 🎃🧛🏻‍♀️- Mixed age (walking to 4) 🎃🧛🏻‍♀️ 11.40AM! ⛔ SOLD OUT ⛔
BEGIN:VEVENT
DTSTART;TZID=Europe/Paris:20241027T114000
DTEND;TZID=Europe/Paris:20241027T124000
SUMMARY:🧛🏻‍♀️🎃 Spooktacular Halloween Party 🧛🏻‍♀️🎃 – Sunday 27th October – Dentons Green 🎃🧛🏻‍♀️- Mixed age (walking to 4) 🎃🧛🏻‍♀️ 11.40AM! ⛔ SOLD OUT ⛔
DESCRIPTION:Fang-tastic News! Bloom Toddler St Helens Best-Selling Halloween Specials are here! We are back  with more spook-tacular fun than ever! Will it be a trick? Will it be a treat? Join us to find out! You’d be Ghhhoooolish to miss out! Bloom Songs ft Halloween Disco Music! Halloween Craft Time! Spook-tacular Tuff Trays, Monstrous Messy Play &amp; More... Tasty Treats..or Tricks! Spooky Photo Area Fancy Dress Competition (optional) Get ready to monster mash! It wouldn't be halloween 'witch' out you! Classes sold out in record time last year, so don't miss out! Sibling discount available (50% off your second ticket)- message for a code!
URL:https://bloomtoddlerclasses.com/st-helens/product/%f0%9f%a7%9b%f0%9f%8f%bb%e2%99%80%ef%b8%8f%f0%9f%8e%83-spooktacular-halloween-party-%f0%9f%a7%9b%f0%9f%8f%bb%e2%99%80%ef%b8%8f%f0%9f%8e%83-sunday-27th-october-dentons-green-2/
LOCATION:KLS Dance Academy, Ruskin Leisure, Ruskin Drive, Saint Helens, UK
END:VEVENT
END:VCALENDAR
