BEGIN:VCALENDAR
VERSION:2.0
PRODID:-//Bloom Toddler Classes St Helens
CALSCALE:GREGORIAN
METHOD:PUBLISH
X-WR-CALNAME:Bloom Toddler Classes St Helens
X-ORIGINAL-URL:https://bloomtoddlerclasses.com/st-helens/product/%f0%9f%8f%96%ef%b8%8f-%e2%98%80%ef%b8%8f-thursday-8h-august-payg-a-day-at-the-seaside-%e2%98%80%ef%b8%8f%f0%9f%8f%96%ef%b8%8f-creative-learners-walking-to-2-peasley-cross-urc%f0%9f%8f%96/
X-WR-CALDESC:🏖️ ☀️ Thursday 8h August PAYG&#8211; A Day at the Seaside ☀️🏖️- Creative Learners (walking to 2)- Peasley Cross URC🏖️☀️ ⛔
BEGIN:VEVENT
DTSTART;TZID=Europe/Paris:20240808T094500
DTEND;TZID=Europe/Paris:20240808T103000
SUMMARY:🏖️ ☀️ Thursday 8h August PAYG– A Day at the Seaside ☀️🏖️- Creative Learners (walking to 2)- Peasley Cross URC🏖️☀️ ⛔
DESCRIPTION:⭐ Join us for our Sea Side theme to kick off our term with a PAYG Space! 🎶 Bloom Songs &amp; Dancing 🐚 Explore our Sandy Tuff Trays &amp; jump around with our beach ball parachute!
URL:https://bloomtoddlerclasses.com/st-helens/product/%f0%9f%8f%96%ef%b8%8f-%e2%98%80%ef%b8%8f-thursday-8h-august-payg-a-day-at-the-seaside-%e2%98%80%ef%b8%8f%f0%9f%8f%96%ef%b8%8f-creative-learners-walking-to-2-peasley-cross-urc%f0%9f%8f%96/
LOCATION:Peasley Cross United Reformed Church, Beaufort Street, Saint Helens, UK
END:VEVENT
END:VCALENDAR
