BEGIN:VCALENDAR
VERSION:2.0
PRODID:-//Bloom Toddler Classes St Helens
CALSCALE:GREGORIAN
METHOD:PUBLISH
X-WR-CALNAME:Bloom Toddler Classes St Helens
X-ORIGINAL-URL:https://bloomtoddlerclasses.com/st-helens/product/%f0%9f%8f%96%ef%b8%8f-%e2%98%80%ef%b8%8f-tuesday-6th-august-payg-a-day-at-the-seaside-%e2%98%80%ef%b8%8f%f0%9f%8f%96%ef%b8%8f-creative-learners-walking-to-2-newton-community-centre%f0%9f%8f%96/
X-WR-CALDESC:🏖️ ☀️ Tuesday 6th August PAYG&#8211; A Day at the Seaside ☀️🏖️- Creative Learners (walking to 2)- Newton Community Centre🏖️☀️ ⛔ SOLD OUT ⛔
BEGIN:VEVENT
DTSTART;TZID=Europe/Paris:20240806T100000
DTEND;TZID=Europe/Paris:20240806T104500
SUMMARY:🏖️ ☀️ Tuesday 6th August PAYG– A Day at the Seaside ☀️🏖️- Creative Learners (walking to 2)- Newton Community Centre🏖️☀️ ⛔ SOLD OUT ⛔
DESCRIPTION:⭐ Join us for our Sea Side theme to kick off our term with a PAYG Space! 🎶 Bloom Songs &amp; Dancing 🐚 Explore our Sandy Tuff Trays &amp; jump around with our beach ball parachute!
URL:https://bloomtoddlerclasses.com/st-helens/product/%f0%9f%8f%96%ef%b8%8f-%e2%98%80%ef%b8%8f-tuesday-6th-august-payg-a-day-at-the-seaside-%e2%98%80%ef%b8%8f%f0%9f%8f%96%ef%b8%8f-creative-learners-walking-to-2-newton-community-centre%f0%9f%8f%96/
LOCATION:Newton Community Centre - Newton-le-willows, Park Road South, Newton-le-Willows, UK
END:VEVENT
END:VCALENDAR
