BEGIN:VCALENDAR
VERSION:2.0
PRODID:-//Bloom Toddler Classes St Helens
CALSCALE:GREGORIAN
METHOD:PUBLISH
X-WR-CALNAME:Bloom Toddler Classes St Helens
X-ORIGINAL-URL:https://bloomtoddlerclasses.com/st-helens/product/%f0%9f%8d%8b-%f0%9f%8e%89-thursday-1st-august-payg-bloom-fest-2024-%f0%9f%8e%89%f0%9f%8d%8b-social-super-stars-2-4-years-sutton-%f0%9f%8e%89%f0%9f%8d%8b/
X-WR-CALDESC:🍋 🎉 Thursday 1st August PAYG&#8211; Bloom Fest 2024 🎉🍋- Social Super Stars (2- 4 years)- Sutton 🎉🍋
BEGIN:VEVENT
DTSTART;TZID=Europe/Paris:20240801T104500
DTEND;TZID=Europe/Paris:20240801T113000
SUMMARY:🍋 🎉 Thursday 1st August PAYG– Bloom Fest 2024 🎉🍋- Social Super Stars (2- 4 years)- Sutton 🎉🍋
DESCRIPTION:⭐ Join us for our Bloom Fest theme to kick off our term with a PAYG Space! 🍋 Get your festival drink on and make your own lemonade! A sensory experience tasting citrus fruits! 🎺 Sing, dance &amp; vibe! It's festival time! ⛺ Sing &amp; Sign Campfire songs!
URL:https://bloomtoddlerclasses.com/st-helens/product/%f0%9f%8d%8b-%f0%9f%8e%89-thursday-1st-august-payg-bloom-fest-2024-%f0%9f%8e%89%f0%9f%8d%8b-social-super-stars-2-4-years-sutton-%f0%9f%8e%89%f0%9f%8d%8b/
LOCATION:Peasley Cross United Reformed Church, Beaufort Street, Saint Helens, UK
END:VEVENT
END:VCALENDAR
