BEGIN:VCALENDAR
VERSION:2.0
PRODID:-//Bloom Toddler Classes St Helens
CALSCALE:GREGORIAN
METHOD:PUBLISH
X-WR-CALNAME:Bloom Toddler Classes St Helens
X-ORIGINAL-URL:https://bloomtoddlerclasses.com/st-helens/product/%f0%9f%8d%82-%f0%9f%a7%a1-monday-autumn-term-social-super-stars-2-4-years-dentons-green-ruskin-%f0%9f%a7%a1%f0%9f%8d%82/
X-WR-CALDESC:🍂 🧡 Monday-  Autumn Term &#8211; Social Super Stars (2-4 years) -Dentons Green (Ruskin) 🧡🍂 ⛔ SOLD OUT ⛔
BEGIN:VEVENT
DTSTART;TZID=Europe/Paris:20240902T110000
DTEND;TZID=Europe/Paris:20241014T114500
SUMMARY:🍂 🧡 Monday-  Autumn Term – Social Super Stars (2-4 years) -Dentons Green (Ruskin) 🧡🍂 ⛔ SOLD OUT ⛔
DESCRIPTION:🍂 🍂 🍂  Bloom is back for an amazing Autumn Term! 🍂 🍂 🍂 6 weeks of fun, learning &amp; memories to be made with some of my favourite themes, including: 🎓 Back to School! 🌈Rainbows &amp; Colours! 🐸Hop, Hop, Little Frog! 🍂 Autumn Days! 🎂 Great British Bake Off! 👑 Bloom Royalty!
URL:https://bloomtoddlerclasses.com/st-helens/product/%f0%9f%8d%82-%f0%9f%a7%a1-monday-autumn-term-social-super-stars-2-4-years-dentons-green-ruskin-%f0%9f%a7%a1%f0%9f%8d%82/
LOCATION:KLS Dance Academy, Ruskin Leisure, Ruskin Drive, Saint Helens, UK
END:VEVENT
END:VCALENDAR
