BEGIN:VCALENDAR
VERSION:2.0
PRODID:-//Bloom Toddler Classes St Helens
CALSCALE:GREGORIAN
METHOD:PUBLISH
X-WR-CALNAME:Bloom Toddler Classes St Helens
X-ORIGINAL-URL:https://bloomtoddlerclasses.com/st-helens/product/%e2%98%80%ef%b8%8f-%f0%9f%92%9b-thursday-summer-holidays-mini-term-social-super-stars-2-4-years-sutton-%f0%9f%92%9b%e2%98%80%ef%b8%8f/
X-WR-CALDESC:⛱️☀️ 💛 Thursday 22nd AUG PAYG SPORTS DAY- Social Super Stars (2-4 years)- Sutton 💛☀️⛱️
BEGIN:VEVENT
DTSTART;TZID=Europe/Paris:20240801T104500
DTEND;TZID=Europe/Paris:20240822T113000
SUMMARY:⛱️☀️ 💛 Thursday 22nd AUG PAYG SPORTS DAY- Social Super Stars (2-4 years)- Sutton 💛☀️⛱️
DESCRIPTION:I couldn't leave you all without your Bloom fix during the Summer Holidays, so after a little break we will be back from week beginning MONDAY 29th JUNE for a FOUR week mini term! Summer Sizzling Themes including: 🥇🏀⚽🏈 Sports Day! ☀️⛱️💛🐚 A Day at the Seaside! 🚜🐔🐄🐖 Farmyard Fun! 🥂🍋✨🥳 Bloom Fest 2024!
URL:https://bloomtoddlerclasses.com/st-helens/product/%e2%98%80%ef%b8%8f-%f0%9f%92%9b-thursday-summer-holidays-mini-term-social-super-stars-2-4-years-sutton-%f0%9f%92%9b%e2%98%80%ef%b8%8f/
LOCATION:Peasley Cross United Reformed Church, Beaufort Street, Saint Helens, UK
END:VEVENT
END:VCALENDAR
