BEGIN:VCALENDAR
VERSION:2.0
PRODID:-//Bloom Toddler Classes St Helens
CALSCALE:GREGORIAN
METHOD:PUBLISH
X-WR-CALNAME:Bloom Toddler Classes St Helens
X-ORIGINAL-URL:https://bloomtoddlerclasses.com/st-helens/product/%e2%98%80%ef%b8%8f%f0%9f%8d%a6summer-term-thursday-09-45am-sutton-creative-learners-walking-to-2-years%f0%9f%8d%a6%e2%98%80%ef%b8%8f-copy/
X-WR-CALDESC:☀️🍦SUMMER TERM &#8211; Thursday 09.45am &#8211; Sutton &#8211; Creative Learners (walking to 2 years)🍦☀️⛔SOLD OUT ⛔
BEGIN:VEVENT
DTSTART;TZID=Europe/Paris:20240606T094500
DTEND;TZID=Europe/Paris:20240711T103000
SUMMARY:☀️🍦SUMMER TERM – Thursday 09.45am – Sutton – Creative Learners (walking to 2 years)🍦☀️⛔SOLD OUT ⛔
DESCRIPTION:Summer Term will run for 6 weeks beginning Monday 3rd June and will feature some super star themes including: Fire Fighters Buzzing Bees Ice Cream Parlour On the Allotment Construction Zone Pirates, Ahoy!
URL:https://bloomtoddlerclasses.com/st-helens/product/%e2%98%80%ef%b8%8f%f0%9f%8d%a6summer-term-thursday-09-45am-sutton-creative-learners-walking-to-2-years%f0%9f%8d%a6%e2%98%80%ef%b8%8f-copy/
LOCATION:Peasley Cross United Reformed Church, Beaufort Street, Saint Helens, UK
END:VEVENT
END:VCALENDAR
