BEGIN:VCALENDAR
VERSION:2.0
PRODID:-//Bloom Toddler Classes St Helens
CALSCALE:GREGORIAN
METHOD:PUBLISH
X-WR-CALNAME:Bloom Toddler Classes St Helens
X-ORIGINAL-URL:https://bloomtoddlerclasses.com/st-helens/product/%f0%9f%92%a5-%f0%9f%a6%8b-new-year-term-tuesday-social-super-stars-2-to-4-years-newton-le-willows%f0%9f%92%a5-%f0%9f%a6%8b/
X-WR-CALDESC:💥  🦋 New Year Term &#8211; Tuesday Social Super Stars (2 to 4 years) &#8211; Newton-le-Willows💥  🦋
BEGIN:VEVENT
DTSTART;TZID=Europe/Paris:20240109T110000
DTEND;TZID=Europe/Paris:20240206T114500
SUMMARY:💥  🦋 New Year Term – Tuesday Social Super Stars (2 to 4 years) – Newton-le-Willows💥  🦋
DESCRIPTION:💥 Let's start 2024 with a 'blooming' big BANG 💫 Join us for 5 weeks of bloom magic, fun &amp; learning starting 8th January. 5 new themes to enjoy including: 💥 New Year Fire Work Party 🤡 🎪 Circus Time! 👩‍🔬 🧪 Super Scientists! 🇲🇽 🎉 Mexican Fiesta! 🦸‍♀️ 🦸‍♂️ Super Heroes! We can't wait to welcome you back (or to!) Bloom Toddler Classes St Helens! Please check schedule for time alterations on certain dates owing to warm space hub taking place in the community centre.
URL:https://bloomtoddlerclasses.com/st-helens/product/%f0%9f%92%a5-%f0%9f%a6%8b-new-year-term-tuesday-social-super-stars-2-to-4-years-newton-le-willows%f0%9f%92%a5-%f0%9f%a6%8b/
LOCATION:Wargrave Big Local Community Centre
END:VEVENT
END:VCALENDAR
