BEGIN:VCALENDAR
VERSION:2.0
PRODID:-//Bloom Toddler Classes St Helens
CALSCALE:GREGORIAN
METHOD:PUBLISH
X-WR-CALNAME:Bloom Toddler Classes St Helens
X-ORIGINAL-URL:https://bloomtoddlerclasses.com/st-helens/product/%f0%9f%8e%85%e2%98%83%ef%b8%8fblooming-jolly-christmas-special-%f0%9f%8e%85%e2%98%83%ef%b8%8f-friday-22nd-december-dentons-green/
X-WR-CALDESC:🎅☃️&#8217;Blooming&#8217; Jolly Christmas Special 🎅☃️ &#8211; Friday 22nd December- Dentons Green- NEW ⛔️ SOLD OUT ⛔️
BEGIN:VEVENT
DTSTART;TZID=Europe/Paris:20231222T100000
DTEND;TZID=Europe/Paris:20231222T110000
SUMMARY:🎅☃️’Blooming’ Jolly Christmas Special 🎅☃️ – Friday 22nd December- Dentons Green- NEW ⛔️ SOLD OUT ⛔️
DESCRIPTION:The perfect way to start your festive season in style! Bloom Toddler's First Festive Parties are here!   A jolly good time guaranteed! There's snow time like the present to book those spots! Bound to be tree-mendously popular! What can you expect?  Some Bloom classic songs &amp; dances with a festive twist! Christmas sensory tuff trays &amp; activities! Get crafty in in our Christmas craft corner!  Make your own magical reindeer food to take home &amp; sprinkle! Festive snacks for all! A seasonal book to open on Christmas eve, gift wrapped for each child! Festive songs, games, dancing &amp; zen time!  A personalised letter from Santa (I know him!) - details to be collected after booking.   Festive backdrop, props &amp; photo opportunities! AND SO MUCH MORE! Yule be foolish to miss out on this one! Can you tell I love Christmas?
URL:https://bloomtoddlerclasses.com/st-helens/product/%f0%9f%8e%85%e2%98%83%ef%b8%8fblooming-jolly-christmas-special-%f0%9f%8e%85%e2%98%83%ef%b8%8f-friday-22nd-december-dentons-green/
LOCATION:
END:VEVENT
END:VCALENDAR
