BEGIN:VCALENDAR
VERSION:2.0
PRODID:-//Bloom Toddler Classes St Helens
CALSCALE:GREGORIAN
METHOD:PUBLISH
X-WR-CALNAME:Bloom Toddler Classes St Helens
X-ORIGINAL-URL:https://bloomtoddlerclasses.com/st-helens/product/%f0%9f%8d%81%f0%9f%8d%82-autumn-term-wednesday-creative-learners-15m-2ys-haydock-%f0%9f%8d%81%f0%9f%8d%82/
X-WR-CALDESC:🍁🍂 Autumn Term- Wednesday Creative Learners (15m- 2ys) &#8211; Haydock 🍁🍂 ⛔️SOLD OUT ⛔️
BEGIN:VEVENT
DTSTART;TZID=Europe/Paris:20230913T100000
DTEND;TZID=Europe/Paris:20231018T104500
SUMMARY:🍁🍂 Autumn Term- Wednesday Creative Learners (15m- 2ys) – Haydock 🍁🍂 ⛔️SOLD OUT ⛔️
DESCRIPTION:🍁Are you ready for Autumn TODDLER classes⁉️ 🦋 A highly interactive toddler group with back to back activities which focus on meeting early learning goals set to our own NEW bespoke Bloom soundtrack 🎼 🎭 With weekly themes, we expose a multi sensory learning adventure, helping toddlers to understand the world around them, flourish in a language rich environment and enjoy a range of age-appropriate games, songs and tasks which helps support their developmental milestones. 🌸 What are you waiting for? Come and join the fun! SIX brand new themes! I can't wait! 🌼 Lets's Bloom! Gemma x
URL:https://bloomtoddlerclasses.com/st-helens/product/%f0%9f%8d%81%f0%9f%8d%82-autumn-term-wednesday-creative-learners-15m-2ys-haydock-%f0%9f%8d%81%f0%9f%8d%82/
LOCATION:Haydock Conservative Club, Bellerophon Way, Merseyside, UK
END:VEVENT
END:VCALENDAR
