BEGIN:VCALENDAR
VERSION:2.0
PRODID:-//Bloom Toddler Classes St Helens
CALSCALE:GREGORIAN
METHOD:PUBLISH
X-WR-CALNAME:Bloom Toddler Classes St Helens
X-ORIGINAL-URL:https://bloomtoddlerclasses.com/st-helens/product/%f0%9f%8d%81%f0%9f%8d%82-autumn-term-tuesday-social-super-stars-age-2-4-newton-le-willows-%f0%9f%8d%81%f0%9f%8d%82/
X-WR-CALDESC:🍁🍂 Autumn Term- Tuesday Social Super Stars (age 2-4) &#8211; Newton-le-Willows 🍁🍂 ⛔️ SOLD OUT ⛔️
BEGIN:VEVENT
DTSTART;TZID=Europe/Paris:20230912T110000
DTEND;TZID=Europe/Paris:20231017T114500
SUMMARY:🍁🍂 Autumn Term- Tuesday Social Super Stars (age 2-4) – Newton-le-Willows 🍁🍂 ⛔️ SOLD OUT ⛔️
DESCRIPTION:🍁Are you ready for Autumn TODDLER classes⁉️ 🦋 A highly interactive toddler group with back to back activities which focus on meeting early learning goals set to our own NEW bespoke Bloom soundtrack 🎼 🎭 With weekly themes, we expose a multi sensory learning adventure, helping toddlers to understand the world around them, flourish in a language rich environment and enjoy a range of age-appropriate games, songs and tasks which helps support their developmental milestones. 🌸 What are you waiting for? Come and join the fun! SIX brand new themes! I can't wait! 🌼 Lets's Bloom! Gemma x
URL:https://bloomtoddlerclasses.com/st-helens/product/%f0%9f%8d%81%f0%9f%8d%82-autumn-term-tuesday-social-super-stars-age-2-4-newton-le-willows-%f0%9f%8d%81%f0%9f%8d%82/
LOCATION:Wargrave Big Local Community Centre
END:VEVENT
END:VCALENDAR
