BEGIN:VCALENDAR
VERSION:2.0
PRODID:-//Bloom Toddler Classes Paphos and Limassol
CALSCALE:GREGORIAN
METHOD:PUBLISH
X-WR-CALNAME:Bloom Toddler Classes Paphos and Limassol
X-ORIGINAL-URL:https://bloomtoddlerclasses.com/paphos-and-limassol/product/march%f0%9f%93%85thursdays%f0%9f%93%8dpaphos-1100am-creative-learners-age-15-months-to-2-years-old/
X-WR-CALDESC:MARCH📅THURSDAYS📍PAPHOS-11:00AM- CREATIVE LEARNERS &#8211; AGE 15 MONTHS TO 2 YEARS OLD
BEGIN:VEVENT
DTSTART;TZID=Europe/Paris:20260305T110000
DTEND;TZID=Europe/Paris:20260326T114500
SUMMARY:MARCH📅THURSDAYS📍PAPHOS-11:00AM- CREATIVE LEARNERS – AGE 15 MONTHS TO 2 YEARS OLD
DESCRIPTION:CREATIVE LEARNERS (15–24 months) 💙💚 A fun, fast-moving toddler class with back-to-back activities designed to build confidence, coordination and early learning through play. ✅ Perfect for: busy toddlers who love to explore, copy, dance and try new things 💛 You’ll enjoy: quality bonding time + a friendly group of familiar faces each week What to expect: 🎶 Bloom Toddler Beats soundtrack 🫧 Bubbles + parachute play 🎭 Props &amp; dress-up 🌈 Sensory lights 🎨 Messy play, painting &amp; crafts 🧺 Sensory/exploration tuff trays 🌿 A new theme every week 💡 Joining mid-month? The membership price drops automatically each week on the website, so you can start anytime without paying the full month.
URL:https://bloomtoddlerclasses.com/paphos-and-limassol/product/march%f0%9f%93%85thursdays%f0%9f%93%8dpaphos-1100am-creative-learners-age-15-months-to-2-years-old/
LOCATION:Charalampou Kyrillou, Emba, Cyprus
END:VEVENT
END:VCALENDAR
