BEGIN:VCALENDAR
VERSION:2.0
PRODID:-//Bloom Toddler Classes Paphos and Limassol
CALSCALE:GREGORIAN
METHOD:PUBLISH
X-WR-CALNAME:Bloom Toddler Classes Paphos and Limassol
X-ORIGINAL-URL:https://bloomtoddlerclasses.com/paphos-and-limassol/product/march%f0%9f%93%85thursdays%f0%9f%93%8dpaphos-1000am-social-superstars-age-2-to-4-5-years-old/
X-WR-CALDESC:MARCH📅THURSDAYS📍PAPHOS-10:00AM- SOCIAL SUPERSTARS- AGE 2 TO 4.5  YEARS OLD
BEGIN:VEVENT
DTSTART;TZID=Europe/Paris:20260305T100000
DTEND;TZID=Europe/Paris:20260326T104500
SUMMARY:MARCH📅THURSDAYS📍PAPHOS-10:00AM- SOCIAL SUPERSTARS- AGE 2 TO 4.5  YEARS OLD
DESCRIPTION:Social Superstars (2–4.5 years) is our fun, fast-paced toddler class, the perfect bridge between home life and preschool routines. 📅Each week we explore a brand-new theme through music, movement, sensory play and group games, helping your child grow in confidence, friendships and early learning (with you right alongside them). 💛 ✨ What to expect: 🎶 Bloom Toddler Beats • 🫧 bubbles + parachute • 🎭 props &amp; dress-up 🎨 messy play/crafts • 🧺 tuff trays • 🌈 sensory lights 💡 Start anytime: joining mid-month? The membership price drops automatically each week on the website.
URL:https://bloomtoddlerclasses.com/paphos-and-limassol/product/march%f0%9f%93%85thursdays%f0%9f%93%8dpaphos-1000am-social-superstars-age-2-to-4-5-years-old/
LOCATION:Charalampou Kyrillou, Emba, Cyprus
END:VEVENT
END:VCALENDAR
