BEGIN:VCALENDAR
VERSION:2.0
PRODID:-//Bloom Toddler Classes Paphos and Limassol
CALSCALE:GREGORIAN
METHOD:PUBLISH
X-WR-CALNAME:Bloom Toddler Classes Paphos and Limassol
X-ORIGINAL-URL:https://bloomtoddlerclasses.com/paphos-and-limassol/product/trial-single-payment-class/
X-WR-CALDESC:🌟 Trial/Single class for Paphos, Limassol, Peyia
BEGIN:VEVENT
DTSTART;TZID=Europe/Paris:20260101T000000
DTEND;TZID=Europe/Paris:20270101T000000
SUMMARY:🌟 Trial/Single class for Paphos, Limassol, Peyia
DESCRIPTION:This individual class booking, can be used as a trial class or as a single time class during any time of the year. It has no  expiration date. Please, only we would like to ask you, once bought ,let us know which location, day and time you would like to use it for.
URL:https://bloomtoddlerclasses.com/paphos-and-limassol/product/trial-single-payment-class/
LOCATION:Charalampou Kyrillou, Emba, Cyprus
END:VEVENT
END:VCALENDAR
